Package: alabaster.ranges Version: 1.8.0 Command: /home/biocbuild/bbs-3.21-bioc/R/bin/R CMD check --install=check:alabaster.ranges.install-out.txt --library=/home/biocbuild/bbs-3.21-bioc/R/site-library --timings alabaster.ranges_1.8.0.tar.gz StartedAt: 2025-10-15 20:43:00 -0400 (Wed, 15 Oct 2025) EndedAt: 2025-10-15 20:44:28 -0400 (Wed, 15 Oct 2025) EllapsedTime: 88.2 seconds RetCode: 0 Status: OK CheckDir: alabaster.ranges.Rcheck Warnings: 0