Package: airpart Version: 1.18.0 Command: /home/biocbuild/R/R/bin/R CMD check --install=check:airpart.install-out.txt --library=/home/biocbuild/R/R/site-library --no-vignettes --timings airpart_1.18.0.tar.gz StartedAt: 2025-11-18 06:28:25 -0000 (Tue, 18 Nov 2025) EndedAt: 2025-11-18 06:34:52 -0000 (Tue, 18 Nov 2025) EllapsedTime: 386.6 seconds RetCode: 0 Status: OK CheckDir: airpart.Rcheck Warnings: 0