Package: airpart Version: 1.17.0 Command: /home/biocbuild/R/R/bin/R CMD build --keep-empty-dirs --no-resave-data airpart StartedAt: 2025-10-23 21:38:42 -0000 (Thu, 23 Oct 2025) EndedAt: 2025-10-23 21:40:30 -0000 (Thu, 23 Oct 2025) EllapsedTime: 108.1 seconds RetCode: 0 Status: OK PackageFile: airpart_1.17.0.tar.gz PackageFileSize: 782 KiB