Package: airpart Version: 1.17.0 Command: chmod a+r airpart -R && F:\biocbuild\bbs-3.22-bioc\R\bin\R.exe CMD build --keep-empty-dirs --no-resave-data airpart StartedAt: 2025-08-14 18:22:58 -0400 (Thu, 14 Aug 2025) EndedAt: 2025-08-14 18:24:54 -0400 (Thu, 14 Aug 2025) EllapsedTime: 115.5 seconds RetCode: 0 Status: OK PackageFile: airpart_1.17.0.tar.gz PackageFileSize: 709.9 KiB