Package: airpart Version: 1.16.0 Command: /home/biocbuild/bbs-3.21-bioc/R/bin/R CMD INSTALL airpart StartedAt: 2025-10-15 15:56:09 -0400 (Wed, 15 Oct 2025) EndedAt: 2025-10-15 15:56:41 -0400 (Wed, 15 Oct 2025) EllapsedTime: 31.9 seconds RetCode: 0 Status: OK