Package: airpart Version: 1.16.0 Command: /Library/Frameworks/R.framework/Resources/bin/R CMD build --keep-empty-dirs --no-resave-data airpart StartedAt: 2025-10-13 16:59:48 -0400 (Mon, 13 Oct 2025) EndedAt: 2025-10-13 17:02:30 -0400 (Mon, 13 Oct 2025) EllapsedTime: 162.5 seconds RetCode: 0 Status: OK PackageFile: airpart_1.16.0.tar.gz PackageFileSize: 1.487 MiB