Package: airpart Version: 1.16.0 Command: rm -rf airpart.buildbin-libdir && mkdir airpart.buildbin-libdir && /Users/biocbuild/BBS/utils/build-universal.sh airpart_1.16.0.tar.gz /Library/Frameworks/R.framework/Resources/bin/R airpart.buildbin-libdir StartedAt: 2025-10-14 12:48:39 -0400 (Tue, 14 Oct 2025) EndedAt: 2025-10-14 12:49:51 -0400 (Tue, 14 Oct 2025) EllapsedTime: 71.6 seconds RetCode: 0 Status: OK PackageFile: airpart_1.16.0.tgz PackageFileSize: 1.579 MiB