Package: airpart Version: 1.18.0 Command: /Library/Frameworks/R.framework/Resources/bin/R CMD INSTALL airpart StartedAt: 2025-11-02 15:30:12 -0500 (Sun, 02 Nov 2025) EndedAt: 2025-11-02 15:30:27 -0500 (Sun, 02 Nov 2025) EllapsedTime: 15.5 seconds RetCode: 0 Status: OK