Package: airpart Version: 1.18.0 Command: rm -rf airpart.buildbin-libdir && mkdir airpart.buildbin-libdir && /Users/biocbuild/BBS/utils/build-universal.sh airpart_1.18.0.tar.gz /Library/Frameworks/R.framework/Resources/bin/R airpart.buildbin-libdir StartedAt: 2025-10-31 22:57:27 -0400 (Fri, 31 Oct 2025) EndedAt: 2025-10-31 22:57:41 -0400 (Fri, 31 Oct 2025) EllapsedTime: 14.2 seconds RetCode: 0 Status: OK PackageFile: airpart_1.18.0.tgz PackageFileSize: 1.58 MiB