Package: affyio Version: 1.78.0 Command: rm -rf affyio.buildbin-libdir && mkdir affyio.buildbin-libdir && E:\biocbuild\bbs-3.21-bioc\R\bin\R.exe CMD INSTALL --build --library=affyio.buildbin-libdir affyio_1.78.0.tar.gz StartedAt: 2025-08-15 08:43:29 -0400 (Fri, 15 Aug 2025) EndedAt: 2025-08-15 08:43:56 -0400 (Fri, 15 Aug 2025) EllapsedTime: 26.4 seconds RetCode: 0 Status: OK PackageFile: affyio_1.78.0.zip PackageFileSize: 143.5 KiB