Package: affyio Version: 1.78.0 Command: /Library/Frameworks/R.framework/Resources/bin/R CMD check --install=check:affyio.install-out.txt --library=/Library/Frameworks/R.framework/Resources/library --no-vignettes --timings affyio_1.78.0.tar.gz StartedAt: 2025-10-13 23:51:18 -0400 (Mon, 13 Oct 2025) EndedAt: 2025-10-13 23:51:48 -0400 (Mon, 13 Oct 2025) EllapsedTime: 30.3 seconds RetCode: 0 Status: WARNINGS CheckDir: affyio.Rcheck Warnings: 2