Package: affyio Version: 1.78.0 Command: /Library/Frameworks/R.framework/Resources/bin/R CMD build --keep-empty-dirs --no-resave-data affyio StartedAt: 2025-10-13 16:59:17 -0400 (Mon, 13 Oct 2025) EndedAt: 2025-10-13 16:59:19 -0400 (Mon, 13 Oct 2025) EllapsedTime: 2.3 seconds RetCode: 0 Status: OK PackageFile: affyio_1.78.0.tar.gz PackageFileSize: 107.8 KiB