Package: affycoretools Version: 1.81.1 Command: /home/biocbuild/R/R/bin/R CMD check --install=check:affycoretools.install-out.txt --library=/home/biocbuild/R/R/site-library --no-vignettes --timings affycoretools_1.81.1.tar.gz StartedAt: 2025-10-21 04:21:06 -0000 (Tue, 21 Oct 2025) EndedAt: 2025-10-21 04:30:05 -0000 (Tue, 21 Oct 2025) EllapsedTime: 538.5 seconds RetCode: 0 Status: OK CheckDir: affycoretools.Rcheck Warnings: 0