Package: affycoretools Version: 1.81.1 Command: /home/biocbuild/R/R/bin/R CMD build --keep-empty-dirs --no-resave-data affycoretools StartedAt: 2025-10-23 21:37:57 -0000 (Thu, 23 Oct 2025) EndedAt: 2025-10-23 21:40:06 -0000 (Thu, 23 Oct 2025) EllapsedTime: 129.1 seconds RetCode: 0 Status: OK PackageFile: affycoretools_1.81.1.tar.gz PackageFileSize: 6.657 MiB