Package: affycoretools Version: 1.81.0 Command: rm -rf affycoretools.buildbin-libdir && mkdir affycoretools.buildbin-libdir && F:\biocbuild\bbs-3.22-bioc\R\bin\R.exe CMD INSTALL --build --library=affycoretools.buildbin-libdir affycoretools_1.81.0.tar.gz StartedAt: 2025-08-15 09:41:30 -0400 (Fri, 15 Aug 2025) EndedAt: 2025-08-15 09:43:16 -0400 (Fri, 15 Aug 2025) EllapsedTime: 106.5 seconds RetCode: 0 Status: OK PackageFile: affycoretools_1.81.0.zip PackageFileSize: 573.5 KiB