Package: affycoretools Version: 1.82.0 Command: /home/biocbuild/bbs-3.22-bioc/R/bin/R CMD check --install=check:affycoretools.install-out.txt --library=/home/biocbuild/bbs-3.22-bioc/R/site-library --timings affycoretools_1.82.0.tar.gz StartedAt: 2025-11-06 20:55:25 -0500 (Thu, 06 Nov 2025) EndedAt: 2025-11-06 21:03:03 -0500 (Thu, 06 Nov 2025) EllapsedTime: 458.5 seconds RetCode: 0 Status: OK CheckDir: affycoretools.Rcheck Warnings: 0