Package: affyPLM Version: 1.84.0 Command: /Library/Frameworks/R.framework/Resources/bin/R CMD INSTALL affyPLM StartedAt: 2025-04-21 15:15:54 -0400 (Mon, 21 Apr 2025) EndedAt: 2025-04-21 15:16:31 -0400 (Mon, 21 Apr 2025) EllapsedTime: 36.4 seconds RetCode: 0 Status: OK