Package: affyILM Version: 1.60.0 Command: chmod a+r affyILM -R && E:\biocbuild\bbs-3.21-bioc\R\bin\R.exe CMD build --keep-empty-dirs --no-resave-data affyILM StartedAt: 2025-08-14 17:16:41 -0400 (Thu, 14 Aug 2025) EndedAt: 2025-08-14 17:17:52 -0400 (Thu, 14 Aug 2025) EllapsedTime: 71.1 seconds RetCode: 0 Status: OK PackageFile: affyILM_1.60.0.tar.gz PackageFileSize: 123.4 KiB