Package: affyILM Version: 1.60.0 Command: /Library/Frameworks/R.framework/Resources/bin/R CMD check --install=check:affyILM.install-out.txt --library=/Library/Frameworks/R.framework/Resources/library --no-vignettes --timings affyILM_1.60.0.tar.gz StartedAt: 2025-10-14 12:19:10 -0400 (Tue, 14 Oct 2025) EndedAt: 2025-10-14 12:21:16 -0400 (Tue, 14 Oct 2025) EllapsedTime: 125.2 seconds RetCode: 0 Status: OK CheckDir: affyILM.Rcheck Warnings: 0