Package: affyILM Version: 1.60.0 Command: /Library/Frameworks/R.framework/Resources/bin/R CMD build --keep-empty-dirs --no-resave-data affyILM StartedAt: 2025-10-13 18:50:22 -0400 (Mon, 13 Oct 2025) EndedAt: 2025-10-13 18:51:15 -0400 (Mon, 13 Oct 2025) EllapsedTime: 52.7 seconds RetCode: 0 Status: OK PackageFile: affyILM_1.60.0.tar.gz PackageFileSize: 233.6 KiB