Package: affyILM Version: 1.60.0 Command: rm -rf affyILM.buildbin-libdir && mkdir affyILM.buildbin-libdir && /Users/biocbuild/BBS/utils/build-universal.sh affyILM_1.60.0.tar.gz /Library/Frameworks/R.framework/Resources/bin/R affyILM.buildbin-libdir StartedAt: 2025-10-15 17:19:53 -0400 (Wed, 15 Oct 2025) EndedAt: 2025-10-15 17:20:10 -0400 (Wed, 15 Oct 2025) EllapsedTime: 16.7 seconds RetCode: 0 Status: OK PackageFile: affyILM_1.60.0.tgz PackageFileSize: 507.1 KiB