Package: affyContam Version: 1.66.0 Command: /home/biocbuild/bbs-3.21-bioc/R/bin/R CMD INSTALL affyContam StartedAt: 2025-10-08 15:54:01 -0400 (Wed, 08 Oct 2025) EndedAt: 2025-10-08 15:54:04 -0400 (Wed, 08 Oct 2025) EllapsedTime: 3.0 seconds RetCode: 0 Status: OK