Package: affyContam Version: 1.66.0 Command: /Library/Frameworks/R.framework/Resources/bin/R CMD build --keep-empty-dirs --no-resave-data affyContam StartedAt: 2025-04-21 15:35:54 -0400 (Mon, 21 Apr 2025) EndedAt: 2025-04-21 15:36:01 -0400 (Mon, 21 Apr 2025) EllapsedTime: 7.1 seconds RetCode: 0 Status: OK PackageFile: affyContam_1.66.0.tar.gz PackageFileSize: 503.3 KiB