Package: affyContam Version: 1.66.0 Command: rm -rf affyContam.buildbin-libdir && mkdir affyContam.buildbin-libdir && /Users/biocbuild/BBS/utils/build-universal.sh affyContam_1.66.0.tar.gz /Library/Frameworks/R.framework/Resources/bin/R affyContam.buildbin-libdir StartedAt: 2025-04-21 22:25:32 -0400 (Mon, 21 Apr 2025) EndedAt: 2025-04-21 22:25:34 -0400 (Mon, 21 Apr 2025) EllapsedTime: 2.0 seconds RetCode: 0 Status: OK PackageFile: affyContam_1.66.0.tgz PackageFileSize: 303.4 KiB