Package: affy Version: 1.86.0 Command: /home/biocbuild/bbs-3.21-bioc/R/bin/R CMD check --install=check:affy.install-out.txt --library=/home/biocbuild/bbs-3.21-bioc/R/site-library --timings affy_1.86.0.tar.gz StartedAt: 2025-10-05 20:41:30 -0400 (Sun, 05 Oct 2025) EndedAt: 2025-10-05 20:44:16 -0400 (Sun, 05 Oct 2025) EllapsedTime: 166.3 seconds RetCode: 0 Status: WARNINGS CheckDir: affy.Rcheck Warnings: 1