Package: affy Version: 1.86.0 Command: /Library/Frameworks/R.framework/Resources/bin/R CMD build --keep-empty-dirs --no-resave-data affy StartedAt: 2025-10-06 16:56:59 -0400 (Mon, 06 Oct 2025) EndedAt: 2025-10-06 16:59:27 -0400 (Mon, 06 Oct 2025) EllapsedTime: 147.9 seconds RetCode: 0 Status: OK PackageFile: affy_1.86.0.tar.gz PackageFileSize: 1.68 MiB