Package: affy Version: 1.86.0 Command: rm -rf affy.buildbin-libdir && mkdir affy.buildbin-libdir && /Users/biocbuild/BBS/utils/build-universal.sh affy_1.86.0.tar.gz /Library/Frameworks/R.framework/Resources/bin/R affy.buildbin-libdir StartedAt: 2025-10-07 12:36:31 -0400 (Tue, 07 Oct 2025) EndedAt: 2025-10-07 12:37:02 -0400 (Tue, 07 Oct 2025) EllapsedTime: 31.5 seconds RetCode: 0 Status: OK PackageFile: affy_1.86.0.tgz PackageFileSize: 1.995 MiB