Package: affy Version: 1.86.0 Command: /home/biocbuild/R/R/bin/R CMD INSTALL affy StartedAt: 2025-09-29 20:25:00 -0000 (Mon, 29 Sep 2025) EndedAt: 2025-09-29 20:25:14 -0000 (Mon, 29 Sep 2025) EllapsedTime: 13.9 seconds RetCode: 0 Status: OK