Package: affy Version: 1.86.0 Command: rm -rf affy.buildbin-libdir && mkdir affy.buildbin-libdir && /Users/biocbuild/BBS/utils/build-universal.sh affy_1.86.0.tar.gz /Library/Frameworks/R.framework/Resources/bin/R affy.buildbin-libdir StartedAt: 2025-04-21 22:25:31 -0400 (Mon, 21 Apr 2025) EndedAt: 2025-04-21 22:25:38 -0400 (Mon, 21 Apr 2025) EllapsedTime: 7.1 seconds RetCode: 0 Status: OK PackageFile: affy_1.86.0.tgz PackageFileSize: 1.997 MiB