Package: affy Version: 1.86.0 Command: /Library/Frameworks/R.framework/Resources/bin/R CMD build --keep-empty-dirs --no-resave-data affy StartedAt: 2025-10-06 18:57:59 -0400 (Mon, 06 Oct 2025) EndedAt: 2025-10-06 18:59:13 -0400 (Mon, 06 Oct 2025) EllapsedTime: 74.3 seconds RetCode: 0 Status: OK PackageFile: affy_1.86.0.tar.gz PackageFileSize: 1.684 MiB