Package: affxparser Version: 1.81.0 Command: /home/biocbuild/R/R/bin/R CMD check --install=check:affxparser.install-out.txt --library=/home/biocbuild/R/R/site-library --no-vignettes --timings affxparser_1.81.0.tar.gz StartedAt: 2025-10-21 04:19:53 -0000 (Tue, 21 Oct 2025) EndedAt: 2025-10-21 04:21:06 -0000 (Tue, 21 Oct 2025) EllapsedTime: 73.0 seconds RetCode: 1 Status: ERROR CheckDir: affxparser.Rcheck Warnings: NA