Package: affxparser Version: 1.81.0 Command: rm -rf affxparser.buildbin-libdir && mkdir affxparser.buildbin-libdir && F:\biocbuild\bbs-3.22-bioc\R\bin\R.exe CMD INSTALL --build --library=affxparser.buildbin-libdir affxparser_1.81.0.tar.gz StartedAt: 2025-08-15 09:41:08 -0400 (Fri, 15 Aug 2025) EndedAt: 2025-08-15 09:52:15 -0400 (Fri, 15 Aug 2025) EllapsedTime: 666.1 seconds RetCode: 0 Status: OK PackageFile: affxparser_1.81.0.zip PackageFileSize: 1.309 MiB