Package: affxparser Version: 1.82.0 Command: /home/biocbuild/bbs-3.22-bioc/R/bin/R CMD check --install=check:affxparser.install-out.txt --library=/home/biocbuild/bbs-3.22-bioc/R/site-library --timings affxparser_1.82.0.tar.gz StartedAt: 2025-11-06 20:54:44 -0500 (Thu, 06 Nov 2025) EndedAt: 2025-11-06 20:55:25 -0500 (Thu, 06 Nov 2025) EllapsedTime: 41.0 seconds RetCode: 0 Status: WARNINGS CheckDir: affxparser.Rcheck Warnings: 2