Package: affxparser Version: 1.82.0 Command: /home/biocbuild/bbs-3.22-bioc/R/bin/R CMD build --keep-empty-dirs --no-resave-data --md5 affxparser StartedAt: 2025-11-06 16:10:06 -0500 (Thu, 06 Nov 2025) EndedAt: 2025-11-06 16:10:09 -0500 (Thu, 06 Nov 2025) EllapsedTime: 3.0 seconds RetCode: 0 Status: OK PackageFile: affxparser_1.82.0.tar.gz PackageFileSize: 799.8 KiB