Package: adverSCarial Version: 1.8.0 Command: /home/biocbuild/bbs-3.22-bioc/R/bin/R CMD check --install=check:adverSCarial.install-out.txt --library=/home/biocbuild/bbs-3.22-bioc/R/site-library --timings adverSCarial_1.8.0.tar.gz StartedAt: 2025-11-06 20:54:44 -0500 (Thu, 06 Nov 2025) EndedAt: 2025-11-06 20:56:07 -0500 (Thu, 06 Nov 2025) EllapsedTime: 83.1 seconds RetCode: 0 Status: WARNINGS CheckDir: adverSCarial.Rcheck Warnings: 2