Package: adverSCarial Version: 1.8.0 Command: /Library/Frameworks/R.framework/Resources/bin/R CMD build --keep-empty-dirs --no-resave-data adverSCarial StartedAt: 2025-10-31 16:06:00 -0400 (Fri, 31 Oct 2025) EndedAt: 2025-10-31 16:06:33 -0400 (Fri, 31 Oct 2025) EllapsedTime: 33.1 seconds RetCode: 0 Status: OK PackageFile: adverSCarial_1.8.0.tar.gz PackageFileSize: 169.1 KiB