Package: adverSCarial Version: 1.8.0 Command: rm -rf adverSCarial.buildbin-libdir && mkdir adverSCarial.buildbin-libdir && /Users/biocbuild/BBS/utils/build-universal.sh adverSCarial_1.8.0.tar.gz /Library/Frameworks/R.framework/Resources/bin/R adverSCarial.buildbin-libdir StartedAt: 2025-11-01 01:21:14 -0400 (Sat, 01 Nov 2025) EndedAt: 2025-11-01 01:21:27 -0400 (Sat, 01 Nov 2025) EllapsedTime: 13.9 seconds RetCode: 0 Status: OK PackageFile: adverSCarial_1.8.0.tgz PackageFileSize: 372 KiB