Package: adverSCarial Version: 1.8.0 Command: /Library/Frameworks/R.framework/Resources/bin/R CMD build --keep-empty-dirs --no-resave-data adverSCarial StartedAt: 2025-11-09 15:35:48 -0500 (Sun, 09 Nov 2025) EndedAt: 2025-11-09 15:35:58 -0500 (Sun, 09 Nov 2025) EllapsedTime: 10.1 seconds RetCode: 0 Status: OK PackageFile: adverSCarial_1.8.0.tar.gz PackageFileSize: 169.1 KiB