Package: adSplit Version: 1.79.0 Command: /home/biocbuild/R/R/bin/R CMD INSTALL adSplit StartedAt: 2025-10-23 21:01:37 -0000 (Thu, 23 Oct 2025) EndedAt: 2025-10-23 21:01:57 -0000 (Thu, 23 Oct 2025) EllapsedTime: 20.5 seconds RetCode: 0 Status: OK