Package: adSplit Version: 1.78.0 Command: /home/biocbuild/bbs-3.21-bioc/R/bin/R CMD INSTALL adSplit StartedAt: 2025-10-08 15:44:49 -0400 (Wed, 08 Oct 2025) EndedAt: 2025-10-08 15:45:05 -0400 (Wed, 08 Oct 2025) EllapsedTime: 15.5 seconds RetCode: 0 Status: OK