Package: acde Version: 1.40.0 Command: /home/biocbuild/bbs-3.22-bioc/R/bin/R CMD build --keep-empty-dirs --no-resave-data --md5 acde StartedAt: 2025-11-06 16:09:38 -0500 (Thu, 06 Nov 2025) EndedAt: 2025-11-06 16:09:52 -0500 (Thu, 06 Nov 2025) EllapsedTime: 14.0 seconds RetCode: 0 Status: OK PackageFile: acde_1.40.0.tar.gz PackageFileSize: 8.878 MiB