Package: acde Version: 1.38.0 Command: /Library/Frameworks/R.framework/Resources/bin/R CMD INSTALL acde StartedAt: 2025-10-09 15:06:58 -0400 (Thu, 09 Oct 2025) EndedAt: 2025-10-09 15:07:38 -0400 (Thu, 09 Oct 2025) EllapsedTime: 40.2 seconds RetCode: 0 Status: OK