Package: abseqR Version: 1.28.0 Command: /home/biocbuild/bbs-3.22-bioc/R/bin/R CMD check --install=check:abseqR.install-out.txt --library=/home/biocbuild/bbs-3.22-bioc/R/site-library --timings abseqR_1.28.0.tar.gz StartedAt: 2025-11-06 20:54:44 -0500 (Thu, 06 Nov 2025) EndedAt: 2025-11-06 20:58:37 -0500 (Thu, 06 Nov 2025) EllapsedTime: 233.4 seconds RetCode: 0 Status: OK CheckDir: abseqR.Rcheck Warnings: 0