Package: abseqR Version: 1.28.0 Command: /Library/Frameworks/R.framework/Resources/bin/R CMD check --install=check:abseqR.install-out.txt --library=/Library/Frameworks/R.framework/Resources/library --no-vignettes --timings abseqR_1.28.0.tar.gz StartedAt: 2025-11-03 19:24:00 -0500 (Mon, 03 Nov 2025) EndedAt: 2025-11-03 19:26:52 -0500 (Mon, 03 Nov 2025) EllapsedTime: 172.5 seconds RetCode: 0 Status: OK CheckDir: abseqR.Rcheck Warnings: 0