Package: aCGH Version: 1.86.0 Command: /Library/Frameworks/R.framework/Resources/bin/R CMD INSTALL aCGH StartedAt: 2025-10-06 15:19:34 -0400 (Mon, 06 Oct 2025) EndedAt: 2025-10-06 15:20:05 -0400 (Mon, 06 Oct 2025) EllapsedTime: 30.9 seconds RetCode: 0 Status: OK