Package: aCGH Version: 1.86.0 Command: rm -rf aCGH.buildbin-libdir && mkdir aCGH.buildbin-libdir && /Users/biocbuild/BBS/utils/build-universal.sh aCGH_1.86.0.tar.gz /Library/Frameworks/R.framework/Resources/bin/R aCGH.buildbin-libdir StartedAt: 2025-10-07 12:36:31 -0400 (Tue, 07 Oct 2025) EndedAt: 2025-10-07 12:37:01 -0400 (Tue, 07 Oct 2025) EllapsedTime: 30.4 seconds RetCode: 0 Status: OK PackageFile: aCGH_1.86.0.tgz PackageFileSize: 2.497 MiB