Package: aCGH Version: 1.86.0 Command: /home/biocbuild/R/R/bin/R CMD INSTALL aCGH StartedAt: 2025-10-02 20:24:04 -0000 (Thu, 02 Oct 2025) EndedAt: 2025-10-02 20:24:19 -0000 (Thu, 02 Oct 2025) EllapsedTime: 14.8 seconds RetCode: 0 Status: OK