Package: aCGH Version: 1.86.0 Command: /home/biocbuild/R/R/bin/R CMD build --keep-empty-dirs --no-resave-data aCGH StartedAt: 2025-10-02 22:27:08 -0000 (Thu, 02 Oct 2025) EndedAt: 2025-10-02 22:27:45 -0000 (Thu, 02 Oct 2025) EllapsedTime: 37.0 seconds RetCode: 0 Status: OK PackageFile: aCGH_1.86.0.tar.gz PackageFileSize: 2.212 MiB