Package: aCGH Version: 1.86.0 Command: /Library/Frameworks/R.framework/Resources/bin/R CMD build --keep-empty-dirs --no-resave-data aCGH StartedAt: 2025-10-06 18:54:41 -0400 (Mon, 06 Oct 2025) EndedAt: 2025-10-06 18:55:21 -0400 (Mon, 06 Oct 2025) EllapsedTime: 39.7 seconds RetCode: 0 Status: OK PackageFile: aCGH_1.86.0.tar.gz PackageFileSize: 2.218 MiB