Package: a4Reporting Version: 1.57.0 Command: /home/biocbuild/R/R/bin/R CMD build --keep-empty-dirs --no-resave-data a4Reporting StartedAt: 2025-10-23 21:37:17 -0000 (Thu, 23 Oct 2025) EndedAt: 2025-10-23 21:37:23 -0000 (Thu, 23 Oct 2025) EllapsedTime: 6.0 seconds RetCode: 0 Status: OK PackageFile: a4Reporting_1.57.0.tar.gz PackageFileSize: 357.8 KiB